View In:
ArcGIS JavaScript
ArcGIS Online Map Viewer
ArcGIS Earth
Service Description: Forestry/CONUS_forestGroupMD
Name: Forestry/CONUS_forestGroupMD
Description:
Single Fused Map Cache: false
Extent:
XMin: 71589.08317109707
YMin: -74588.39103983156
XMax: 686089.0831710971
YMax: 330661.60896016844
Spatial Reference: 26985
(26985)
VCSWkid(5773)
LatestVCSWkid(5773)
Initial Extent:
XMin: 71589.08317109707
YMin: -74588.39103983156
XMax: 686089.0831710971
YMax: 330661.60896016844
Spatial Reference: 26985
(26985)
VCSWkid(5773)
LatestVCSWkid(5773)
Full Extent:
XMin: 71589.08317109707
YMin: -74588.39103983156
XMax: 686089.0831710971
YMax: 330661.60896016844
Spatial Reference: 26985
(26985)
VCSWkid(5773)
LatestVCSWkid(5773)
Pixel Size X: 250.0
Pixel Size Y: 250.0
Band Count: 1
Pixel Type: U16
RasterFunction Infos: {"rasterFunctionInfos": [
{
"name": "None",
"description": "Make a Raster or Raster Dataset into a Function Raster Dataset.",
"help": ""
},
{
"name": "Raster Function Template",
"description": "ColorMap",
"help": ""
}
]}
Mensuration Capabilities: Basic
Inspection Capabilities:
Has Histograms: true
Has Colormap: false
Has Multi Dimensions : false
Rendering Rule:
Min Scale: 0
Max Scale: 0
Copyright Text:
Service Data Type: esriImageServiceDataTypeGeneric
Min Values: 0
Max Values: 900
Mean Values: 172.20838409381022
Standard Deviation Values: 239.96847463863148
Object ID Field:
Fields:
None
Default Mosaic Method: Center
Allowed Mosaic Methods:
SortField:
SortValue: null
Mosaic Operator: First
Default Compression Quality: 75
Default Resampling Method: Bilinear
Max Record Count: null
Max Image Height: 4100
Max Image Width: 15000
Max Download Image Count: null
Max Mosaic Image Count: null
Allow Raster Function: true
Allow Copy: true
Allow Analysis: true
Allow Compute TiePoints: false
Supports Statistics: false
Supports Advanced Queries: false
Use StandardizedQueries: true
Raster Type Infos:
Name: Raster Dataset
Description: Supports all ArcGIS Raster Datasets
Help:
Has Raster Attribute Table: true
Edit Fields Info: null
Ownership Based AccessControl For Rasters: null
Child Resources:
Info
Raster Attribute Table
Histograms
Statistics
Key Properties
Legend
Raster Function Infos
Supported Operations:
Export Image
Identify
Measure
Compute Histograms
Compute Statistics Histograms
Get Samples
Compute Class Statistics
Query Boundary
Compute Pixel Location
Compute Angles
Validate
Project