View In:
ArcGIS JavaScript
ArcGIS Online Map Viewer
ArcGIS Earth
Service Description: Forestry/MD_ForestrySuitability_CanopyHeight
Name: Forestry/MD_ForestrySuitability_CanopyHeight
Description:
Single Fused Map Cache: false
Extent:
XMin: 185233.49519440532
YMin: 33677.497935414314
XMax: 565870.4951944053
YMax: 230906.4979354143
Spatial Reference: 26985
(26985)
LatestVCSWkid(0)
Initial Extent:
XMin: 185233.49519440532
YMin: 33677.497935414314
XMax: 565870.4951944053
YMax: 230906.4979354143
Spatial Reference: 26985
(26985)
LatestVCSWkid(0)
Full Extent:
XMin: 185233.49519440532
YMin: 33677.497935414314
XMax: 565870.4951944053
YMax: 230906.4979354143
Spatial Reference: 26985
(26985)
LatestVCSWkid(0)
Pixel Size X: 3.0
Pixel Size Y: 3.0
Band Count: 1
Pixel Type: S8
RasterFunction Infos: {"rasterFunctionInfos": [{
"name": "None",
"description": "",
"help": ""
}]}
Mensuration Capabilities: Basic
Inspection Capabilities:
Has Histograms: true
Has Colormap: false
Has Multi Dimensions : false
Rendering Rule:
Min Scale: 0
Max Scale: 0
Copyright Text:
Service Data Type: esriImageServiceDataTypeGeneric
Min Values: 40
Max Values: 120
Mean Values: 57.77326684422926
Standard Deviation Values: 16.317260171732777
Object ID Field:
Fields:
None
Default Mosaic Method: Center
Allowed Mosaic Methods:
SortField:
SortValue: null
Mosaic Operator: First
Default Compression Quality: 75
Default Resampling Method: Bilinear
Max Record Count: null
Max Image Height: 4100
Max Image Width: 15000
Max Download Image Count: null
Max Mosaic Image Count: null
Allow Raster Function: true
Allow Copy: true
Allow Analysis: true
Allow Compute TiePoints: false
Supports Statistics: false
Supports Advanced Queries: false
Use StandardizedQueries: true
Raster Type Infos:
Name: Raster Dataset
Description: Supports all ArcGIS Raster Datasets
Help:
Has Raster Attribute Table: true
Edit Fields Info: null
Ownership Based AccessControl For Rasters: null
Child Resources:
Info
Raster Attribute Table
Histograms
Statistics
Key Properties
Legend
Raster Function Infos
Supported Operations:
Export Image
Identify
Measure
Compute Histograms
Compute Statistics Histograms
Get Samples
Compute Class Statistics
Query Boundary
Compute Pixel Location
Compute Angles
Validate
Project