View In:
ArcGIS JavaScript
ArcGIS Online Map Viewer
ArcGIS Earth
Service Description: This data layer contains aerial photographs of Assateague Island and Ocean City, Maryland, originally captured by the U.S. Army Corps of Engineers and provided by the Maryland Coastal Bays Program. All imagery has been georeferenced and prepared for integration into a seamless mosaic. Georeferencing procedures were performed by the Eastern Shore Regional GIS Cooperative at Salisbury University.
Name: Historic/MD_Coast_1934_10
Description: This data layer contains aerial photographs of Assateague Island and Ocean City, Maryland, originally captured by the U.S. Army Corps of Engineers and provided by the Maryland Coastal Bays Program. All imagery has been georeferenced and prepared for integration into a seamless mosaic. Georeferencing procedures were performed by the Eastern Shore Regional GIS Cooperative at Salisbury University.
Single Fused Map Cache: false
Extent:
XMin: 559368.3071999997
YMin: 56697.449022840476
XMax: 570519.6524857007
YMax: 84804.0337000005
Spatial Reference: 26985
(26985)
LatestVCSWkid(0)
Initial Extent:
XMin: 559368.3071999997
YMin: 56697.449022840476
XMax: 570519.6524857007
YMax: 84804.0337000005
Spatial Reference: 26985
(26985)
LatestVCSWkid(0)
Full Extent:
XMin: 559368.3071999997
YMin: 56697.449022840476
XMax: 570519.6524857007
YMax: 84804.0337000005
Spatial Reference: 26985
(26985)
LatestVCSWkid(0)
Pixel Size X: 0.31986189615641175
Pixel Size Y: 0.3198618961564113
Band Count: 3
Pixel Type: U8
RasterFunction Infos: {"rasterFunctionInfos": [{
"name": "None",
"description": "",
"help": ""
}]}
Mensuration Capabilities: None
Inspection Capabilities:
Has Histograms: true
Has Colormap: false
Has Multi Dimensions : false
Rendering Rule:
Min Scale: 0
Max Scale: 0
Resampling: false
Copyright Text: USACE
Service Data Type: esriImageServiceDataTypeRGB
Min Values: 44, 45, 46
Max Values: 237, 235, 235
Mean Values: 134.90105333809768, 130.70370671083674, 128.85306312450518
Standard Deviation Values: 33.68458765166175, 34.13757259032496, 33.685505997485286
Object ID Field: OBJECTID
Fields:
-
OBJECTID
(
type: esriFieldTypeOID, alias: OBJECTID
)
-
Shape
(
type: esriFieldTypeGeometry, alias: Shape
)
-
Name
(
type: esriFieldTypeString, alias: Name, length: 200
)
-
MinPS
(
type: esriFieldTypeDouble, alias: MinPS
)
-
MaxPS
(
type: esriFieldTypeDouble, alias: MaxPS
)
-
LowPS
(
type: esriFieldTypeDouble, alias: LowPS
)
-
HighPS
(
type: esriFieldTypeDouble, alias: HighPS
)
-
Category
(
type: esriFieldTypeInteger, alias: Category
, Coded Values:
[0: Unknown]
, [1: Primary]
, [2: Overview]
, ...6 more...
)
-
Tag
(
type: esriFieldTypeString, alias: Tag, length: 100
)
-
GroupName
(
type: esriFieldTypeString, alias: GroupName, length: 100
)
-
ProductName
(
type: esriFieldTypeString, alias: ProductName, length: 100
)
-
CenterX
(
type: esriFieldTypeDouble, alias: CenterX
)
-
CenterY
(
type: esriFieldTypeDouble, alias: CenterY
)
-
ZOrder
(
type: esriFieldTypeInteger, alias: ZOrder
)
-
DATE
(
type: esriFieldTypeDate, alias: DATE, length: 8
)
-
Shape_Length
(
type: esriFieldTypeDouble, alias: Shape_Length
)
-
Shape_Area
(
type: esriFieldTypeDouble, alias: Shape_Area
)
Default Mosaic Method: Northwest
Allowed Mosaic Methods: NorthWest,Center,LockRaster,ByAttribute,Nadir,Viewpoint,Seamline,None
SortField:
SortValue: null
Mosaic Operator: First
Default Compression Quality: 75
Default Resampling Method: Bilinear
Max Record Count: 1000
Max Image Height: 4100
Max Image Width: 15000
Max Download Image Count: 20
Max Mosaic Image Count: 20
Allow Raster Function: true
Allow Copy: true
Allow Analysis: true
Allow Compute TiePoints: false
Supports Statistics: true
Supports Advanced Queries: true
Use StandardizedQueries: true
Raster Type Infos:
Name: Raster Dataset
Description: Supports all ArcGIS Raster Datasets
Help:
Has Raster Attribute Table: false
Edit Fields Info: null
Ownership Based AccessControl For Rasters: null
Child Resources:
Info
Histograms
Statistics
Key Properties
Legend
Raster Function Infos
Supported Operations:
Export Image
Query
Identify
Compute Histograms
Compute Statistics Histograms
Get Samples
Compute Class Statistics
Query GPS Info
Find Images
Image to Map
Map to Image
Measure from Image
Image to Map Multiray
Query Boundary
Compute Pixel Location
Compute Angles
Validate
Project