View In:
ArcGIS JavaScript
ArcGIS Online Map Viewer
ArcGIS Earth
Service Description: Imagery/LowerEasternShore_2024_TC_6in
Name: Imagery/LowerEasternShore_2024_TC_6in
Description:
Single Fused Map Cache: false
Extent:
XMin: 1528000.0001173913
YMin: 78999.99999797344
XMax: 1876000.0001173913
YMax: 330999.99999797344
Spatial Reference: 103069
(6488)
LatestVCSWkid(0)
Initial Extent:
XMin: 1528000.0001173913
YMin: 78999.99999797344
XMax: 1876000.0001173913
YMax: 330999.99999797344
Spatial Reference: 103069
(6488)
LatestVCSWkid(0)
Full Extent:
XMin: 1528000.0001173913
YMin: 78999.99999797344
XMax: 1876000.0001173913
YMax: 330999.99999797344
Spatial Reference: 103069
(6488)
LatestVCSWkid(0)
Pixel Size X: 0.5
Pixel Size Y: 0.5
Band Count: 3
Pixel Type: U16
RasterFunction Infos: {"rasterFunctionInfos": [{
"name": "None",
"description": "",
"help": ""
}]}
Mensuration Capabilities: Basic
Inspection Capabilities:
Has Histograms: true
Has Colormap: false
Has Multi Dimensions : false
Rendering Rule:
Min Scale: 0
Max Scale: 0
Copyright Text:
Service Data Type: esriImageServiceDataTypeElevation
Min Values: 0, 0, 0
Max Values: 255, 255, 255
Mean Values: 68.32471097445777, 78.50714543416554, 84.17723950308076
Standard Deviation Values: 38.91327903314796, 31.17590978223455, 24.83174146233539
Object ID Field: OBJECTID
Fields:
-
OBJECTID
(
type: esriFieldTypeOID, alias: OBJECTID
)
-
Shape
(
type: esriFieldTypeGeometry, alias: Shape
)
-
Name
(
type: esriFieldTypeString, alias: Name, length: 200
)
-
MinPS
(
type: esriFieldTypeDouble, alias: MinPS
)
-
MaxPS
(
type: esriFieldTypeDouble, alias: MaxPS
)
-
LowPS
(
type: esriFieldTypeDouble, alias: LowPS
)
-
HighPS
(
type: esriFieldTypeDouble, alias: HighPS
)
-
Category
(
type: esriFieldTypeInteger, alias: Category
, Coded Values:
[0: Unknown]
, [1: Primary]
, [2: Overview]
, ...6 more...
)
-
Tag
(
type: esriFieldTypeString, alias: Tag, length: 100
)
-
GroupName
(
type: esriFieldTypeString, alias: GroupName, length: 100
)
-
ProductName
(
type: esriFieldTypeString, alias: ProductName, length: 100
)
-
CenterX
(
type: esriFieldTypeDouble, alias: CenterX
)
-
CenterY
(
type: esriFieldTypeDouble, alias: CenterY
)
-
ZOrder
(
type: esriFieldTypeInteger, alias: ZOrder
)
-
Shape_Length
(
type: esriFieldTypeDouble, alias: Shape_Length
)
-
Shape_Area
(
type: esriFieldTypeDouble, alias: Shape_Area
)
Default Mosaic Method: Northwest
Allowed Mosaic Methods: NorthWest,Center,LockRaster,ByAttribute,Nadir,Viewpoint,Seamline,None
SortField:
SortValue: null
Mosaic Operator: First
Default Compression Quality: 75
Default Resampling Method: Bilinear
Max Record Count: 1000
Max Image Height: 4100
Max Image Width: 15000
Max Download Image Count: 20
Max Mosaic Image Count: 20
Allow Raster Function: true
Allow Copy: true
Allow Analysis: true
Allow Compute TiePoints: false
Supports Statistics: true
Supports Advanced Queries: true
Use StandardizedQueries: true
Raster Type Infos:
Name: Raster Dataset
Description: Supports all ArcGIS Raster Datasets
Help:
Has Raster Attribute Table: false
Edit Fields Info: null
Ownership Based AccessControl For Rasters: null
Child Resources:
Info
Histograms
Statistics
Key Properties
Legend
Raster Function Infos
Supported Operations:
Export Image
Query
Identify
Measure
Compute Histograms
Compute Statistics Histograms
Get Samples
Compute Class Statistics
Query GPS Info
Find Images
Image to Map
Map to Image
Measure from Image
Image to Map Multiray
Query Boundary
Compute Pixel Location
Compute Angles
Validate
Project
Calculate Volume