View In:
ArcGIS JavaScript
ArcGIS Online Map Viewer
ArcGIS Earth
ArcGIS Pro
Service Description: Wicomico County 2020 LiDAR derived 1ft contour lines with an adaptive smoothing filter applied.
These cartographic isolines were generated using ESRI's raster functions to apply an adaptive smoothing filter. This algorithm allows for the level of smoothing to be data-driven, varying based on terrain slope. Flatter areas are smoothed more than steeper areas so that details are preserved while artifacts are removed.
This service is provided by the ESRGC , funded by the Tri County Council for the Lower Eastern Shore via Rural Maryland Prosperity Investment Funds.
Map Name: Wicomico_2020_1ft_Contours_adSm
Legend
All Layers and Tables
Dynamic Legend
Dynamic All Layers
Layers:
Description:
Copyright Text: U.S. Geological Survey, Wicomico County, RMPIF, RMC, TCCLES, ESRGC
Spatial Reference:
102100
(3857)
LatestVCSWkid(0)
Single Fused Map Cache: true
Tile Info:
- Height: 256.0
- Width: 256.0
- DPI: 96.0
-
Levels of Detail: 24
-
Level ID: 1
[ Start Tile, End Tile ]
- Resolution: 78271.5169639999
- Scale: 2.95828763795777E8
-
Level ID: 2
[ Start Tile, End Tile ]
- Resolution: 39135.7584820001
- Scale: 1.47914381897889E8
-
Level ID: 3
[ Start Tile, End Tile ]
- Resolution: 19567.8792409999
- Scale: 7.3957190948944E7
-
Level ID: 4
[ Start Tile, End Tile ]
- Resolution: 9783.93962049996
- Scale: 3.6978595474472E7
-
Level ID: 5
[ Start Tile, End Tile ]
- Resolution: 4891.96981024998
- Scale: 1.8489297737236E7
- Format: PNG
- Compression Quality: 0.0
- Origin: X: -2.0037508342787E7
Y: 2.0037508342787E7
- Spatial Reference: 102100
(3857)
LatestVCSWkid(0)
Storage Info:
- Storage Format: esriMapCacheStorageModeCompactV2
- Packet Size: 128
Initial Extent:
XMin: -8455057.38466827
YMin: 4605473.078994943
XMax: -8377703.664940363
YMax: 4664535.401745695
Spatial Reference: 102100
(0)
LatestVCSWkid(0)
Full Extent:
XMin: -8451522.46312495
YMin: 4610599.779294268
XMax: -8381293.334592416
YMax: 4659408.342798433
Spatial Reference: 102100
(0)
LatestVCSWkid(0)
Units: esriMeters
Supported Image Format Types: PNG32,PNG24,PNG,JPG,DIB,TIFF,EMF,PS,PDF,GIF,SVG,SVGZ,BMP
Document Info:
Title: Wicomico_2020_1ft_Contours_adSm
Author:
Comments:
Subject:
Category:
Keywords: Wicomico,County,LiDAR,2020,GIS Circuit Rider,RMPIF,RMC,TCCLES,Topography,Contours,Adaptive Smoothing
AntialiasingMode: Fast
TextAntialiasingMode: Force
Supports Dynamic Layers: true
Resampling: false
MaxRecordCount: 2000
MaxSelectionCount: 2000
MaxImageHeight: 4096
MaxImageWidth: 4096
Supported Query Formats: JSON, geoJSON, PBF
Supports Query Data Elements: true
Min Scale: 288895.277144
Max Scale: 564.248588
Min LOD: 11
Max LOD: 20
Supports Datum Transformation: true
Child Resources:
Info
Dynamic Layer
Supported Operations:
Export Map
Identify
QueryLegends
QueryDomains
Find
Return Updates