View In:
ArcGIS JavaScript
ArcGIS Online Map Viewer
ArcGIS Earth
ArcMap
ArcGIS Pro
View Footprint In:
ArcGIS Online Map Viewer
Service Description: Layer provides Chesapeake Conservancy LULC for use in DNR's MD Coastal Flood Explorer
Map Name: LULC2
Legend
All Layers and Tables
Dynamic Legend
Dynamic All Layers
Layers:
Description: Layer provides Chesapeake Conservancy LULC for use in DNR's MD Coastal Flood Explorer
Copyright Text: Chesapeake Conservancy
Spatial Reference:
102100
(3857)
Single Fused Map Cache: true
Tile Info:
- Height: 256
- Width: 256
- DPI: 96
-
Levels of Detail: 24
-
Level ID: 1
[ Start Tile, End Tile ]
- Resolution: 78271.5169639999
- Scale: 2.95828763795777E8
-
Level ID: 2
[ Start Tile, End Tile ]
- Resolution: 39135.7584820001
- Scale: 1.47914381897889E8
-
Level ID: 3
[ Start Tile, End Tile ]
- Resolution: 19567.8792409999
- Scale: 7.3957190948944E7
-
Level ID: 4
[ Start Tile, End Tile ]
- Resolution: 9783.93962049996
- Scale: 3.6978595474472E7
-
Level ID: 5
[ Start Tile, End Tile ]
- Resolution: 4891.96981024998
- Scale: 1.8489297737236E7
- Format: Mixed
- Compression Quality: 75.0
- Origin: X: -2.0037508342787E7
Y: 2.0037508342787E7
- Spatial Reference: 102100
(3857)
Storage Info:
- Storage Format: esriMapCacheStorageModeCompactV2
- Packet Size: 128
Initial Extent:
XMin: -8620708.514188126
YMin: 4543916.467673574
XMax: -8334420.3141881265
YMax: 4845443.110935181
Spatial Reference: 102100
(3857)
Full Extent:
XMin: -8657954.356176756
YMin: 4511724.51459287
XMax: -8289816.974745275
YMax: 4877919.448469936
Spatial Reference: 102100
(3857)
Units: esriMeters
Supported Image Format Types: PNG32,PNG24,PNG,JPG,DIB,TIFF,EMF,PS,PDF,GIF,SVG,SVGZ,BMP
Document Info:
Title: MD Coastal Flood Explorer - Chesapeake Conservancy LULC
Author:
Comments: Layer provides Chesapeake Conservancy LULC for use in DNR's MD Coastal Flood Explorer
Subject: DNR Coastal Flood Viewer Chesapeake Conservancy LULC tile service
Category:
Keywords: Maryland Chesapeake Conservancy Land Use Cover LULC
AntialiasingMode: Fast
TextAntialiasingMode: Force
Supports Dynamic Layers: true
MaxRecordCount: 2000
MaxImageHeight: 4096
MaxImageWidth: 4096
Supported Query Formats: JSON, geoJSON, PBF
Supports Query Data Elements: true
Min Scale: 1155581.108577
Max Scale: 9027.977411
Min LOD: 9
Max LOD: 16
Supports Datum Transformation: true
Child Resources:
Info
Dynamic Layer
Supported Operations:
Export Map
Identify
QueryLegends
QueryDomains
Find
Return Updates